BEGIN:VCALENDAR
PRODID:-//AT Content Types//AT Event//EN
VERSION:2.0
METHOD:PUBLISH
BEGIN:VEVENT
DTSTAMP:20260421T102636Z
CREATED:20101029T144820Z
UID:ATEvent-5d18532791ea769017f5e83b3ef9a4e4
LAST-MODIFIED:20101029T144848Z
SUMMARY:HEP-LL
DTSTART:20101201T100000Z
DTEND:20101201T113000Z
LOCATION:Lecture Room Euler
CONTACT:B. Acharya
URL:https://diploma-clear.ictp.it/courses/weekly-schedule/lecture-room-euler/hep-ll-46
CLASS:PUBLIC
END:VEVENT
END:VCALENDAR
