BEGIN:VCALENDAR
PRODID:-//AT Content Types//AT Event//EN
VERSION:2.0
METHOD:PUBLISH
BEGIN:VEVENT
DTSTAMP:20260423T232908Z
CREATED:20100921T133428Z
UID:ATEvent-ec3cba5bd7657565064bf741aa5d42a4
LAST-MODIFIED:20100921T133451Z
SUMMARY:HEP-LL
DTSTART:20101112T100000Z
DTEND:20101112T113000Z
LOCATION:Lecture Room Euler
CONTACT:B. Acharya
URL:https://diploma-clear.ictp.it/courses/weekly-schedule/lecture-room-euler/hep-ll-45
CLASS:PUBLIC
END:VEVENT
END:VCALENDAR
