BEGIN:VCALENDAR
PRODID:-//AT Content Types//AT Event//EN
VERSION:1.0
BEGIN:VEVENT
DTSTART:20101029T090000Z
DTEND:20101029T103000Z
DCREATED:20100917T102511Z
UID:ATEvent-7f637cf2166dc1710604d5c94627be1d
SEQUENCE:0
LAST-MODIFIED:20100917T102539Z
SUMMARY:HEP-LL
LOCATION:Lecture Room Euler
PRIORITY:3
TRANSP:0
END:VEVENT
END:VCALENDAR
