BEGIN:VCALENDAR
PRODID:-//AT Content Types//AT Event//EN
VERSION:2.0
METHOD:PUBLISH
BEGIN:VEVENT
DTSTAMP:20260421T071503Z
CREATED:20101029T144718Z
UID:ATEvent-bc40605d95782c426fe6b894db428111
LAST-MODIFIED:20101029T144746Z
SUMMARY:HEP-LL
DTSTART:20101125T100000Z
DTEND:20101125T113000Z
LOCATION:Lecture Room Euler
CONTACT:B. Acharya
URL:https://diploma-clear.ictp.it/courses/weekly-schedule/lecture-room-euler/hep-ll-39
CLASS:PUBLIC
END:VEVENT
END:VCALENDAR
