BEGIN:VCALENDAR
PRODID:-//AT Content Types//AT Event//EN
VERSION:1.0
BEGIN:VEVENT
DTSTART:20101124T100000Z
DTEND:20101124T113000Z
DCREATED:20101029T144550Z
UID:ATEvent-b4d69963101785af914330b218b9d642
SEQUENCE:0
LAST-MODIFIED:20101029T144627Z
SUMMARY:HEP-LL
LOCATION:Lecture Room Euler
PRIORITY:3
TRANSP:0
END:VEVENT
END:VCALENDAR
