BEGIN:VCALENDAR
PRODID:-//AT Content Types//AT Event//EN
VERSION:2.0
METHOD:PUBLISH
BEGIN:VEVENT
DTSTAMP:20260423T013831Z
CREATED:20100831T142320Z
UID:ATEvent-7bde25316fc5f03b8574c5575c3d308c
LAST-MODIFIED:20100831T142400Z
SUMMARY:HEP-LL
DTSTART:20101008T090000Z
DTEND:20101008T103000Z
LOCATION:Lecture Room Euler
CONTACT:B. Acharya
URL:https://diploma-clear.ictp.it/courses/weekly-schedule/lecture-room-euler/hep-ll-35
CLASS:PUBLIC
END:VEVENT
END:VCALENDAR
