BEGIN:VCALENDAR
PRODID:-//AT Content Types//AT Event//EN
VERSION:1.0
BEGIN:VEVENT
DTSTART:20100929T090000Z
DTEND:20100929T103000Z
DCREATED:20100830T124936Z
UID:ATEvent-85a23c04386d736c43a41ea73db92c82
SEQUENCE:0
LAST-MODIFIED:20100830T125055Z
SUMMARY:HEP-LL
LOCATION:Lecture Room Euler
PRIORITY:3
TRANSP:0
END:VEVENT
END:VCALENDAR
