BEGIN:VCALENDAR
PRODID:-//AT Content Types//AT Event//EN
VERSION:1.0
BEGIN:VEVENT
DTSTART:20100917T090000Z
DTEND:20100917T103000Z
DCREATED:20100827T151433Z
UID:ATEvent-4cbc4e77bf12158e962a01771df7a239
SEQUENCE:0
LAST-MODIFIED:20100827T151507Z
SUMMARY:HEP-LL
LOCATION:Lecture Room Euler
PRIORITY:3
TRANSP:0
END:VEVENT
END:VCALENDAR
