BEGIN:VCALENDAR
PRODID:-//AT Content Types//AT Event//EN
VERSION:1.0
BEGIN:VEVENT
DTSTART:20100915T090000Z
DTEND:20100915T103000Z
DCREATED:20100827T151159Z
UID:ATEvent-1f42a4fda32d41e75ee775c4afd21fe8
SEQUENCE:0
LAST-MODIFIED:20100827T151240Z
SUMMARY:HEP-LL
LOCATION:Lecture Room Euler
PRIORITY:3
TRANSP:0
END:VEVENT
END:VCALENDAR
