BEGIN:VCALENDAR
PRODID:-//AT Content Types//AT Event//EN
VERSION:2.0
METHOD:PUBLISH
BEGIN:VEVENT
DTSTAMP:20260420T195610Z
CREATED:20081008T092236Z
UID:ATEvent-5d1466da6283464272f7faefaee85871
LAST-MODIFIED:20081008T092459Z
SUMMARY:HEP-LL
DTSTART:20081003T090000Z
DTEND:20081003T103000Z
LOCATION:Lecture Room Euler
CONTACT:Kerim Suruliz\, ksuruliz@ictp.it
URL:https://diploma-clear.ictp.it/courses/weekly-schedule/lecture-room-euler/hep-ll-1
CLASS:PUBLIC
END:VEVENT
END:VCALENDAR
