BEGIN:VCALENDAR
PRODID:-//AT Content Types//AT Event//EN
VERSION:1.0
BEGIN:VEVENT
DTSTART:20090212T130000Z
DTEND:20090212T143000Z
DCREATED:20090112T090658Z
UID:ATEvent-569bd0db124a01be3be78ffcfb240448
SEQUENCE:0
LAST-MODIFIED:20090112T090745Z
SUMMARY:HEP-GR tut.
LOCATION:Lecture Room Euler
PRIORITY:3
TRANSP:0
END:VEVENT
END:VCALENDAR
