BEGIN:VCALENDAR
PRODID:-//AT Content Types//AT Event//EN
VERSION:1.0
BEGIN:VEVENT
DTSTART:20090402T120000Z
DTEND:20090402T133000Z
DCREATED:20090112T091652Z
UID:ATEvent-a714532df30888d59de2fae4acb3f7fa
SEQUENCE:0
LAST-MODIFIED:20090112T091742Z
SUMMARY:HEP-GR tut.
LOCATION:Lecture Room Euler
PRIORITY:3
TRANSP:0
END:VEVENT
END:VCALENDAR
