BEGIN:VCALENDAR
PRODID:-//AT Content Types//AT Event//EN
VERSION:2.0
METHOD:PUBLISH
BEGIN:VEVENT
DTSTAMP:20260423T015453Z
CREATED:20111219T151429Z
UID:ATEvent-4a85aefb3f3808a59cef7a0ed5e3db40
LAST-MODIFIED:20120130T140102Z
SUMMARY:HEP-GR tut.
DTSTART:20120305T130000Z
DTEND:20120305T143000Z
LOCATION:Lecture Room Euler
CONTACT:E. Sefusatti
URL:https://diploma-clear.ictp.it/courses/weekly-schedule/lecture-room-euler/hep-gr-tut-36
CLASS:PUBLIC
END:VEVENT
END:VCALENDAR
