BEGIN:VCALENDAR
PRODID:-//AT Content Types//AT Event//EN
VERSION:2.0
METHOD:PUBLISH
BEGIN:VEVENT
DTSTAMP:20260423T015457Z
CREATED:20111219T145459Z
UID:ATEvent-18f9d1d41abc2a3f615fb5eff8ead905
LAST-MODIFIED:20120214T094730Z
SUMMARY:HEP-GR tut.
DTSTART:20120221T130000Z
DTEND:20120221T143000Z
LOCATION:Lecture Room Euler
CONTACT:E. Sefusatti
URL:https://diploma-clear.ictp.it/courses/weekly-schedule/lecture-room-euler/hep-gr-tut-34
CLASS:PUBLIC
END:VEVENT
END:VCALENDAR
