BEGIN:VCALENDAR
PRODID:-//AT Content Types//AT Event//EN
VERSION:2.0
METHOD:PUBLISH
BEGIN:VEVENT
DTSTAMP:20260424T195624Z
CREATED:20110215T113722Z
UID:ATEvent-bed6366e4d4282ed3b59c419e2f70ee2
LAST-MODIFIED:20110215T113753Z
SUMMARY:HEP-GR tut.
DTSTART:20110411T090000Z
DTEND:20110411T103000Z
LOCATION:Lecture Room Euler
CONTACT:M. Musso
URL:https://diploma-clear.ictp.it/courses/weekly-schedule/lecture-room-euler/hep-gr-tut-31
CLASS:PUBLIC
END:VEVENT
END:VCALENDAR
