BEGIN:VCALENDAR
PRODID:-//AT Content Types//AT Event//EN
VERSION:2.0
METHOD:PUBLISH
BEGIN:VEVENT
DTSTAMP:20260424T212009Z
CREATED:20110214T112200Z
UID:ATEvent-1903ef3620db3b3b19558ddaf509d2b9
LAST-MODIFIED:20110325T095946Z
SUMMARY:HEP-GR tut.
DTSTART:20110331T140000Z
DTEND:20110331T153000Z
LOCATION:Lecture Room Euler
CONTACT:M. Musso
URL:https://diploma-clear.ictp.it/courses/weekly-schedule/lecture-room-euler/hep-gr-tut-29
CLASS:PUBLIC
END:VEVENT
END:VCALENDAR
