BEGIN:VCALENDAR
PRODID:-//AT Content Types//AT Event//EN
VERSION:2.0
METHOD:PUBLISH
BEGIN:VEVENT
DTSTAMP:20260423T015559Z
CREATED:20100222T100335Z
UID:ATEvent-db98ca26b83722bd6160cf0198dc1500
LAST-MODIFIED:20100316T095941Z
SUMMARY:HEP-GR tut.
DTSTART:20100323T150000Z
DTEND:20100323T163000Z
LOCATION:Lecture Room Euler
CONTACT:Aseem Paranjape
URL:https://diploma-clear.ictp.it/courses/weekly-schedule/lecture-room-euler/hep-gr-tut-19
CLASS:PUBLIC
END:VEVENT
END:VCALENDAR
