BEGIN:VCALENDAR
PRODID:-//AT Content Types//AT Event//EN
VERSION:1.0
BEGIN:VEVENT
DTSTART:20100302T130000Z
DTEND:20100302T143000Z
DCREATED:20100128T152157Z
UID:ATEvent-1aec775eee0282ab40a6d2339a81dce9
SEQUENCE:0
LAST-MODIFIED:20100128T152230Z
SUMMARY:HEP-GR tut.
LOCATION:Lecture Room Euler
PRIORITY:3
TRANSP:0
END:VEVENT
END:VCALENDAR
