BEGIN:VCALENDAR
PRODID:-//AT Content Types//AT Event//EN
VERSION:2.0
METHOD:PUBLISH
BEGIN:VEVENT
DTSTAMP:20260422T222939Z
CREATED:20090430T095058Z
UID:ATEvent-7ec5d161a3cd6257a831a77c92c529ba
LAST-MODIFIED:20090430T095206Z
SUMMARY:HEP-GR tut.
DTSTART:20090507T140000Z
DTEND:20090507T153000Z
LOCATION:Lecture Room Euler
CONTACT:Marcello Musso
URL:https://diploma-clear.ictp.it/courses/weekly-schedule/lecture-room-euler/hep-gr-tut-11
CLASS:PUBLIC
END:VEVENT
END:VCALENDAR
