BEGIN:VCALENDAR
PRODID:-//AT Content Types//AT Event//EN
VERSION:1.0
BEGIN:VEVENT
DTSTART:20090430T140000Z
DTEND:20090430T153000Z
DCREATED:20090304T131044Z
UID:ATEvent-484008ed80bf5bd27b29bf36d2977316
SEQUENCE:0
LAST-MODIFIED:20090304T131135Z
SUMMARY:HEP-GR tut.
LOCATION:Lecture Room Euler
PRIORITY:3
TRANSP:0
END:VEVENT
END:VCALENDAR
