BEGIN:VCALENDAR
PRODID:-//AT Content Types//AT Event//EN
VERSION:1.0
BEGIN:VEVENT
DTSTART:20190308T130000Z
DTEND:20190308T143000Z
DCREATED:20181123T131959Z
UID:ATEvent-825bddaee7de4c7991920330ce574977
SEQUENCE:0
LAST-MODIFIED:20190304T100920Z
SUMMARY:HEP-GR midterm test
LOCATION:Lecture Room Euler
PRIORITY:3
TRANSP:0
END:VEVENT
END:VCALENDAR
