BEGIN:VCALENDAR
PRODID:-//AT Content Types//AT Event//EN
VERSION:1.0
BEGIN:VEVENT
DTSTART:20150203T130000Z
DTEND:20150203T143000Z
DCREATED:20141121T152920Z
UID:ATEvent-7548b8391e24462dafe48f2f8f74ef2e
SEQUENCE:0
LAST-MODIFIED:20150120T104630Z
SUMMARY:HEP-GR
LOCATION:Lecture Room Euler
PRIORITY:3
TRANSP:0
END:VEVENT
END:VCALENDAR
