BEGIN:VCALENDAR
PRODID:-//AT Content Types//AT Event//EN
VERSION:2.0
METHOD:PUBLISH
BEGIN:VEVENT
DTSTAMP:20260421T102414Z
CREATED:20141121T153001Z
UID:ATEvent-25a1fa7dd6cd499fa501d56d7dfd681c
LAST-MODIFIED:20141121T153022Z
SUMMARY:HEP-GR
DTSTART:20150120T130000Z
DTEND:20150120T143000Z
LOCATION:Lecture Room Euler
CONTACT:P. Creminelli
URL:https://diploma-clear.ictp.it/courses/weekly-schedule/lecture-room-euler/hep-gr-96
CLASS:PUBLIC
END:VEVENT
END:VCALENDAR
