BEGIN:VCALENDAR
PRODID:-//AT Content Types//AT Event//EN
VERSION:2.0
METHOD:PUBLISH
BEGIN:VEVENT
DTSTAMP:20260424T193519Z
CREATED:20110214T113121Z
UID:ATEvent-0994c7349328f68e53bab7d37c327b61
LAST-MODIFIED:20110214T113145Z
SUMMARY:HEP-GR
DTSTART:20110401T120000Z
DTEND:20110401T133000Z
LOCATION:Lecture Room Euler
CONTACT:P. Creminelli
URL:https://diploma-clear.ictp.it/courses/weekly-schedule/lecture-room-euler/hep-gr-73
CLASS:PUBLIC
END:VEVENT
END:VCALENDAR
