BEGIN:VCALENDAR
PRODID:-//AT Content Types//AT Event//EN
VERSION:1.0
BEGIN:VEVENT
DTSTART:20110301T130000Z
DTEND:20110301T143000Z
DCREATED:20101221T151921Z
UID:ATEvent-32cb00eb345c4e14098b1fe63b8fe18f
SEQUENCE:0
LAST-MODIFIED:20110121T091632Z
SUMMARY:HEP-GR
LOCATION:Lecture Room Euler
PRIORITY:3
TRANSP:0
END:VEVENT
END:VCALENDAR
