BEGIN:VCALENDAR
PRODID:-//AT Content Types//AT Event//EN
VERSION:1.0
BEGIN:VEVENT
DTSTART:20110225T130000Z
DTEND:20110225T143000Z
DCREATED:20101221T151814Z
UID:ATEvent-e5a4e2b688d64e15008413fff3284303
SEQUENCE:0
LAST-MODIFIED:20110121T091430Z
SUMMARY:HEP-GR
LOCATION:Lecture Room Euler
PRIORITY:3
TRANSP:0
END:VEVENT
END:VCALENDAR
