BEGIN:VCALENDAR
PRODID:-//AT Content Types//AT Event//EN
VERSION:2.0
METHOD:PUBLISH
BEGIN:VEVENT
DTSTAMP:20260425T000701Z
CREATED:20101221T151733Z
UID:ATEvent-a4b2a733c1ade65513563a340f247f86
LAST-MODIFIED:20110208T123412Z
SUMMARY:HEP-GR
DTSTART:20110224T150000Z
DTEND:20110224T163000Z
LOCATION:Lecture Room Euler
CONTACT:P. Creminelli
URL:https://diploma-clear.ictp.it/courses/weekly-schedule/lecture-room-euler/hep-gr-62
CLASS:PUBLIC
END:VEVENT
END:VCALENDAR
