BEGIN:VCALENDAR
PRODID:-//AT Content Types//AT Event//EN
VERSION:2.0
METHOD:PUBLISH
BEGIN:VEVENT
DTSTAMP:20260422T041000Z
CREATED:20101221T145429Z
UID:ATEvent-3fbbfd7939976efdbc5ecd81abb93f18
LAST-MODIFIED:20110121T085313Z
SUMMARY:HEP-GR
DTSTART:20110201T130000Z
DTEND:20110201T143000Z
LOCATION:Lecture Room Euler
CONTACT:P. Creminelli
URL:https://diploma-clear.ictp.it/courses/weekly-schedule/lecture-room-euler/hep-gr-56
CLASS:PUBLIC
END:VEVENT
END:VCALENDAR
