BEGIN:VCALENDAR
PRODID:-//AT Content Types//AT Event//EN
VERSION:1.0
BEGIN:VEVENT
DTSTART:20090218T130000Z
DTEND:20090218T143000Z
DCREATED:20090107T145046Z
UID:ATEvent-7cff0ee7aef3c5a9b03da8d5918db095
SEQUENCE:0
LAST-MODIFIED:20090107T145422Z
SUMMARY:HEP-GR
LOCATION:Lecture Room Euler
PRIORITY:3
TRANSP:0
END:VEVENT
END:VCALENDAR
