BEGIN:VCALENDAR
PRODID:-//AT Content Types//AT Event//EN
VERSION:2.0
METHOD:PUBLISH
BEGIN:VEVENT
DTSTAMP:20260422T014936Z
CREATED:20100301T145349Z
UID:ATEvent-f735db7900180822e83d88578827d2bb
LAST-MODIFIED:20100301T145423Z
SUMMARY:HEP-GR
DTSTART:20100412T120000Z
DTEND:20100412T133000Z
LOCATION:Lecture Room Euler
CONTACT:Paolo Creminelli
URL:https://diploma-clear.ictp.it/courses/weekly-schedule/lecture-room-euler/hep-gr-48
CLASS:PUBLIC
END:VEVENT
END:VCALENDAR
