BEGIN:VCALENDAR
PRODID:-//AT Content Types//AT Event//EN
VERSION:1.0
BEGIN:VEVENT
DTSTART:20100329T120000Z
DTEND:20100329T133000Z
DCREATED:20100222T112224Z
UID:ATEvent-650e5331a660be52ac773bec15d419bb
SEQUENCE:0
LAST-MODIFIED:20100222T112309Z
SUMMARY:HEP-GR
LOCATION:Lecture Room Euler
PRIORITY:3
TRANSP:0
END:VEVENT
END:VCALENDAR
