BEGIN:VCALENDAR
PRODID:-//AT Content Types//AT Event//EN
VERSION:2.0
METHOD:PUBLISH
BEGIN:VEVENT
DTSTAMP:20260422T112922Z
CREATED:20091221T150013Z
UID:ATEvent-cdc45eeb5f6054053bfcf846236d9069
LAST-MODIFIED:20091221T150029Z
SUMMARY:HEP-GR
DTSTART:20100317T130000Z
DTEND:20100317T143000Z
LOCATION:Lecture Room Euler
CONTACT:Paolo Creminelli
URL:https://diploma-clear.ictp.it/courses/weekly-schedule/lecture-room-euler/hep-gr-40
CLASS:PUBLIC
END:VEVENT
END:VCALENDAR
