BEGIN:VCALENDAR
PRODID:-//AT Content Types//AT Event//EN
VERSION:2.0
METHOD:PUBLISH
BEGIN:VEVENT
DTSTAMP:20260419T213524Z
CREATED:20091221T145108Z
UID:ATEvent-60fd11ee172bb1b5dfd9a3e791f44941
LAST-MODIFIED:20091221T145127Z
SUMMARY:HEP-GR
DTSTART:20100310T130000Z
DTEND:20100310T143000Z
LOCATION:Lecture Room Euler
CONTACT:Paolo Creminelli
URL:https://diploma-clear.ictp.it/courses/weekly-schedule/lecture-room-euler/hep-gr-38
CLASS:PUBLIC
END:VEVENT
END:VCALENDAR
