BEGIN:VCALENDAR
PRODID:-//AT Content Types//AT Event//EN
VERSION:2.0
METHOD:PUBLISH
BEGIN:VEVENT
DTSTAMP:20260422T095621Z
CREATED:20091221T144509Z
UID:ATEvent-95e91877564a8a1c31be1c67de16639a
LAST-MODIFIED:20091221T144536Z
SUMMARY:HEP-GR
DTSTART:20100303T130000Z
DTEND:20100303T143000Z
LOCATION:Lecture Room Euler
CONTACT:Paolo Creminelli
URL:https://diploma-clear.ictp.it/courses/weekly-schedule/lecture-room-euler/hep-gr-36
CLASS:PUBLIC
END:VEVENT
END:VCALENDAR
