BEGIN:VCALENDAR
PRODID:-//AT Content Types//AT Event//EN
VERSION:2.0
METHOD:PUBLISH
BEGIN:VEVENT
DTSTAMP:20260421T225236Z
CREATED:20091221T144439Z
UID:ATEvent-016819e51b317f74b102247347131488
LAST-MODIFIED:20091221T144503Z
SUMMARY:HEP-GR
DTSTART:20100301T130000Z
DTEND:20100301T143000Z
LOCATION:Lecture Room Euler
CONTACT:Paolo Creminelli
URL:https://diploma-clear.ictp.it/courses/weekly-schedule/lecture-room-euler/hep-gr-35
CLASS:PUBLIC
END:VEVENT
END:VCALENDAR
