BEGIN:VCALENDAR
PRODID:-//AT Content Types//AT Event//EN
VERSION:2.0
METHOD:PUBLISH
BEGIN:VEVENT
DTSTAMP:20260422T095630Z
CREATED:20091221T143040Z
UID:ATEvent-5654c03eba1176a18bb857074cb0265a
LAST-MODIFIED:20091221T143102Z
SUMMARY:HEP-GR
DTSTART:20100217T130000Z
DTEND:20100217T143000Z
LOCATION:Lecture Room Euler
CONTACT:Paolo Creminelli
URL:https://diploma-clear.ictp.it/courses/weekly-schedule/lecture-room-euler/hep-gr-32
CLASS:PUBLIC
END:VEVENT
END:VCALENDAR
