BEGIN:VCALENDAR
PRODID:-//AT Content Types//AT Event//EN
VERSION:2.0
METHOD:PUBLISH
BEGIN:VEVENT
DTSTAMP:20260421T102559Z
CREATED:20091221T142510Z
UID:ATEvent-5b08742e677a6b0aa799954205f4f3c5
LAST-MODIFIED:20100204T140541Z
SUMMARY:HEP-GR
DTSTART:20100211T130000Z
DTEND:20100211T143000Z
LOCATION:Lecture Room Euler
CONTACT:Paolo Creminelli
URL:https://diploma-clear.ictp.it/courses/weekly-schedule/lecture-room-euler/hep-gr-30
CLASS:PUBLIC
END:VEVENT
END:VCALENDAR
