BEGIN:VCALENDAR
PRODID:-//AT Content Types//AT Event//EN
VERSION:2.0
METHOD:PUBLISH
BEGIN:VEVENT
DTSTAMP:20260423T232905Z
CREATED:20090107T151816Z
UID:ATEvent-2e52d3deb8e771a0367495df34f98f53
LAST-MODIFIED:20090107T151846Z
SUMMARY:HEP-GR
DTSTART:20090408T120000Z
DTEND:20090408T133000Z
LOCATION:Lecture Room Euler
CONTACT:Paolo Creminelli
URL:https://diploma-clear.ictp.it/courses/weekly-schedule/lecture-room-euler/hep-gr-19
CLASS:PUBLIC
END:VEVENT
END:VCALENDAR
