BEGIN:VCALENDAR
PRODID:-//AT Content Types//AT Event//EN
VERSION:1.0
BEGIN:VEVENT
DTSTART:20090406T120000Z
DTEND:20090406T133000Z
DCREATED:20090107T151631Z
UID:ATEvent-8a5c3f6f200f153c779c4b7ad1a5bf5c
SEQUENCE:0
LAST-MODIFIED:20090107T151728Z
SUMMARY:HEP-GR
LOCATION:Lecture Room Euler
PRIORITY:3
TRANSP:0
END:VEVENT
END:VCALENDAR
