BEGIN:VCALENDAR
PRODID:-//AT Content Types//AT Event//EN
VERSION:2.0
METHOD:PUBLISH
BEGIN:VEVENT
DTSTAMP:20260420T195610Z
CREATED:20090107T150451Z
UID:ATEvent-21915ba15396d5253a7c600ecd7493cd
LAST-MODIFIED:20090107T150804Z
SUMMARY:HEP-GR
DTSTART:20090311T130000Z
DTEND:20090311T143000Z
LOCATION:Lecture Room Euler
CONTACT:Paolo Creminelli
URL:https://diploma-clear.ictp.it/courses/weekly-schedule/lecture-room-euler/hep-gr-11
CLASS:PUBLIC
END:VEVENT
END:VCALENDAR
