BEGIN:VCALENDAR
PRODID:-//AT Content Types//AT Event//EN
VERSION:2.0
METHOD:PUBLISH
BEGIN:VEVENT
DTSTAMP:20260421T102421Z
CREATED:20090107T144539Z
UID:ATEvent-e5047d7ebc53459438c43f3028a97bf2
LAST-MODIFIED:20090107T144616Z
SUMMARY:HEP-GR
DTSTART:20090204T130000Z
DTEND:20090204T143000Z
LOCATION:Lecture Room Euler
CONTACT:Paolo Creminelli
URL:https://diploma-clear.ictp.it/courses/weekly-schedule/lecture-room-euler/hep-gr-1
CLASS:PUBLIC
END:VEVENT
END:VCALENDAR
