BEGIN:VCALENDAR
PRODID:-//AT Content Types//AT Event//EN
VERSION:1.0
BEGIN:VEVENT
DTSTART:20220822T070000Z
DTEND:20220822T153000Z
DCREATED:20220729T145636Z
UID:ATEvent-d4790ff0e1d24d89b6b72dd92a148f23
SEQUENCE:0
LAST-MODIFIED:20220729T145659Z
SUMMARY:HEP defenses
LOCATION:Lecture Room Euler
PRIORITY:3
TRANSP:0
END:VEVENT
END:VCALENDAR
