BEGIN:VCALENDAR
PRODID:-//AT Content Types//AT Event//EN
VERSION:1.0
BEGIN:VEVENT
DTSTART:20130814T070000Z
DTEND:20130814T133000Z
DCREATED:20130808T085626Z
UID:ATEvent-053ccf8b4304437bbce7f7832ab4c279
SEQUENCE:0
LAST-MODIFIED:20130813T094123Z
SUMMARY:10:00 - HEP defenses
LOCATION:Lecture Room Euler
PRIORITY:3
TRANSP:0
END:VEVENT
END:VCALENDAR
