BEGIN:VCALENDAR
PRODID:-//AT Content Types//AT Event//EN
VERSION:2.0
METHOD:PUBLISH
BEGIN:VEVENT
DTSTAMP:20260420T232528Z
CREATED:20111221T132101Z
UID:ATEvent-0e60ea400d9d057997e728215a7dc39a
LAST-MODIFIED:20111221T132125Z
SUMMARY:HEP-COS
DTSTART:20120516T120000Z
DTEND:20120516T133000Z
LOCATION:Lecture Room Euler
CONTACT:R. Sheth
URL:https://diploma-clear.ictp.it/courses/weekly-schedule/lecture-room-euler/hep-cos-6
CLASS:PUBLIC
END:VEVENT
END:VCALENDAR
