BEGIN:VCALENDAR
PRODID:-//AT Content Types//AT Event//EN
VERSION:1.0
BEGIN:VEVENT
DTSTART:20120508T120000Z
DTEND:20120508T133000Z
DCREATED:20111221T131856Z
UID:ATEvent-e8adb803339471c5836e15bfd98a01f9
SEQUENCE:0
LAST-MODIFIED:20120417T150538Z
SUMMARY:HEP-COS
LOCATION:Lecture Room Euler
PRIORITY:3
TRANSP:0
END:VEVENT
END:VCALENDAR
