BEGIN:VCALENDAR
PRODID:-//AT Content Types//AT Event//EN
VERSION:2.0
METHOD:PUBLISH
BEGIN:VEVENT
DTSTAMP:20260423T051443Z
CREATED:20120329T100506Z
UID:ATEvent-fcc20453033749617c4ae589a224d639
LAST-MODIFIED:20120329T100537Z
SUMMARY:(Good Friday)
DTSTART:20120406T140000Z
DTEND:20120406T153000Z
LOCATION:Lecture Room Euler
URL:https://diploma-clear.ictp.it/courses/weekly-schedule/lecture-room-euler/good-friday
CLASS:PUBLIC
END:VEVENT
END:VCALENDAR
