BEGIN:VCALENDAR
PRODID:-//AT Content Types//AT Event//EN
VERSION:1.0
BEGIN:VEVENT
DTSTART:20210707T140000Z
DTEND:20210707T153000Z
DCREATED:20210618T090003Z
UID:ATEvent-acb1730e4293466fa520f389fec6017e
SEQUENCE:0
LAST-MODIFIED:20210618T090039Z
SUMMARY:EXAM (in presence)
LOCATION:Lecture Room Euler
PRIORITY:3
TRANSP:0
END:VEVENT
END:VCALENDAR
