BEGIN:VCALENDAR
PRODID:-//AT Content Types//AT Event//EN
VERSION:2.0
METHOD:PUBLISH
BEGIN:VEVENT
DTSTAMP:20260421T172445Z
CREATED:20151015T102144Z
UID:ATEvent-2393da441be54b468c60bb2097098ea3
LAST-MODIFIED:20151015T102214Z
SUMMARY:EXAM
DTSTART:20151029T150000Z
DTEND:20151029T163000Z
LOCATION:Lecture Room Euler
CONTACT:B. Zimmermann
URL:https://diploma-clear.ictp.it/courses/weekly-schedule/lecture-room-euler/exam-84
CLASS:PUBLIC
END:VEVENT
END:VCALENDAR
