BEGIN:VCALENDAR
PRODID:-//AT Content Types//AT Event//EN
VERSION:1.0
BEGIN:VEVENT
DTSTART:20081218T100000Z
DTEND:20081218T113000Z
DCREATED:20081201T132700Z
UID:ATEvent-7b3d0e3eab1cd75372747d0722153ca2
SEQUENCE:0
LAST-MODIFIED:20081201T132739Z
SUMMARY:EXAM
LOCATION:Lecture Room Euler
PRIORITY:3
TRANSP:0
END:VEVENT
END:VCALENDAR
