BEGIN:VCALENDAR
PRODID:-//AT Content Types//AT Event//EN
VERSION:1.0
BEGIN:VEVENT
DTSTART:20140317T100000Z
DTEND:20140317T113000Z
DCREATED:20140213T134146Z
UID:ATEvent-830f0ff7342e45cd8980a50db23d46c9
SEQUENCE:0
LAST-MODIFIED:20140213T134203Z
SUMMARY:EXAM
LOCATION:Lecture Room Euler
PRIORITY:3
TRANSP:0
END:VEVENT
END:VCALENDAR
